BEGIN:VCALENDAR
VERSION:2.0
PRODID:-//CERN//INDICO//EN
BEGIN:VEVENT
SUMMARY:Single-top property measurements at ATLAS
DTSTART;VALUE=DATE-TIME:20161213T134500Z
DTEND;VALUE=DATE-TIME:20161213T140500Z
DTSTAMP;VALUE=DATE-TIME:20260421T110335Z
UID:indico-contribution-4581@indico.ific.uv.es
DESCRIPTION:Speakers: Javier Jimenez Pena ()\nhttps://indico.ific.uv.es/ev
 ent/2866/contributions/4581/
LOCATION:Parc Científic Salón de Actos Edificio de Cabecera
URL:https://indico.ific.uv.es/event/2866/contributions/4581/
END:VEVENT
END:VCALENDAR
