BEGIN:VCALENDAR
VERSION:2.0
PRODID:-//CERN//INDICO//EN
BEGIN:VEVENT
SUMMARY:Webinar: Rethinking the origin of neutrino mass: the role of gravi
 ty
DTSTART;VALUE=DATE-TIME:20161206T150000Z
DTEND;VALUE=DATE-TIME:20161206T160000Z
DTSTAMP;VALUE=DATE-TIME:20260424T170502Z
UID:indico-event-2861@indico.ific.uv.es
DESCRIPTION:\n    We discuss a generic  source of chiral symmetry breakin
 g  in the standard model fermions in form of gravitational anomaly and it
 s role in generating neutrino masses without the need of other sources. \
 n\nPlease join the meeting by clicking this link:\n\nhttp://reunion.uv.es/
 webinar061217/\n\nhttps://indico.ific.uv.es/event/2861/
LOCATION:On-line
URL:https://indico.ific.uv.es/event/2861/
END:VEVENT
END:VCALENDAR
