BEGIN:VCALENDAR
VERSION:2.0
PRODID:-//CERN//INDICO//EN
BEGIN:VEVENT
SUMMARY:Trobada: 4plet-5plet Dark Matter
DTSTART;VALUE=DATE-TIME:20170110T103000Z
DTEND;VALUE=DATE-TIME:20170110T113000Z
DTSTAMP;VALUE=DATE-TIME:20260419T161315Z
UID:indico-event-2857@indico.ific.uv.es
DESCRIPTION:\n    I will discuss simple extension of the Minimal Dark Matt
 er (MDM) framework in which a Majorana and two Weyl fermionic electroweak 
 multiplets are coupled to the Standard Model Higgs doublet through Yukawa 
 couplings. In particular I will summarize the generic features of all poss
 ibilities starting with a singlet and two doublet (akin to a Bino-Higgsino
  couple) up to a Majorana quintuplet coupled to two Weyl quadruplets. I wi
 ll discuss the prospects for searches of thermal candidates provide estima
 te for the relic abundance of a (quasi-)quadruplet candidate\, taking into
  account corrections from the Sommerfeld effect.\n\nhttps://indico.ific.uv
 .es/event/2857/
LOCATION:IFIC Seminar Room\, 1.1.1
URL:https://indico.ific.uv.es/event/2857/
END:VEVENT
END:VCALENDAR
