BEGIN:VCALENDAR
VERSION:2.0
PRODID:-//CERN//INDICO//EN
BEGIN:VEVENT
SUMMARY:Webinar: The Beryllium Anomaly and New Physics
DTSTART;VALUE=DATE-TIME:20161122T150000Z
DTEND;VALUE=DATE-TIME:20161122T160000Z
DTSTAMP;VALUE=DATE-TIME:20260424T200127Z
UID:indico-event-2852@indico.ific.uv.es
DESCRIPTION:\n    Recently a 6.8 sigma anomaly has been reported in the de
 cays of excited 8Be nuclei\, which can be resolved by postulating the exis
 tence of a new weakly-coupled\, 17 MeV boson. I will discuss the experimen
 tal results\; new physics explanations\, focusing on dark forces and gauge
 d B and L symmetries\; and prospects for future experiments.\n    \n    ht
 tp://reunion.uv.es/webinar22112016/\n\nhttps://indico.ific.uv.es/event/285
 2/
LOCATION:IFIC retransmitted from Seminar Room\, 1.1.1
URL:https://indico.ific.uv.es/event/2852/
END:VEVENT
END:VCALENDAR
