BEGIN:VCALENDAR
VERSION:2.0
PRODID:-//CERN//INDICO//EN
BEGIN:VEVENT
SUMMARY:Charlas CPAN IES 2016-2017 de Santiago de Compostela: Física Nucl
 ear (I)
DTSTART;VALUE=DATE-TIME:20161001T070000Z
DTEND;VALUE=DATE-TIME:20170501T150000Z
DTSTAMP;VALUE=DATE-TIME:20260424T103509Z
UID:indico-event-2815@indico.ific.uv.es
DESCRIPTION:Aquí puedes solicitar las siguientes charlas de física nucle
 ar ofertadas por la Universidad de Santiago de Compostela:\n\n    \n      
   Del corazón de la materia al interior de las estrellas. La física nuc
 lear se ocupa de estudiar todo lo relacionado con el núcleo atómico: sus
  características\, su comportamiento\, su origen\, etc. El estudio de est
 as propiedades ayuda a entender no sólo el comportamiento de la materia a
  nivel subatómico\, también explica la evolución de las estrellas y de 
 otros sistemas que pueblan nuestro universo.\n    \n        Impacto social
  y tecnológico de la investigación en Física Nuclear. La investigación
  científica de la natureza viene siempre acompañada de avances tecnológ
 icos que repercuten en nuestra sociedad. El caso de la física nuclear no 
 es una excepción\, y parte de las técnicas utilizadas en esta investigac
 ión se emplean ahora en medicina\, producción de energía\, prevención 
 de riesgos medioambientales o análisis de materiales.\n    \n        Fís
 ica nuclear y energía. La relación entre la física nuclear y la producc
 ión y tratamiento energético es de gran importancia. El estudio científ
 ico nos ayuda a utilizar los recursos energéticos que ofrece el núcleo a
 tómico de la manera más eficiente y\, al mismo tiempo\, a conocer\, prev
 eer y reducir sus peligros\, tanto para nosotros como para el medio ambien
 te.\n\n\nhttps://indico.ific.uv.es/event/2815/
LOCATION:Santiago de Compostela
URL:https://indico.ific.uv.es/event/2815/
END:VEVENT
END:VCALENDAR
