BEGIN:VCALENDAR
VERSION:2.0
PRODID:-//CERN//INDICO//EN
BEGIN:VEVENT
SUMMARY:Charlas CPAN IES 2016-2017 en Santiago de Compostela: Física de P
 artículas
DTSTART;VALUE=DATE-TIME:20161001T070000Z
DTEND;VALUE=DATE-TIME:20170501T150000Z
DTSTAMP;VALUE=DATE-TIME:20260424T123902Z
UID:indico-event-2814@indico.ific.uv.es
DESCRIPTION:Siguiendo las trazas de los quarks en el LHC: Diferencias entr
 e materia y antimateria\n\n    La charla describe qué son los quarks\, la
  antimateria y sus propiedades utilizando ideas familiares para los alumno
 s de bachillerato\, además de explicar el papel que juegan en los acelera
 dores de partículas y en el universo primitivo. También se describe cóm
 o han sido construidos los detectores del LHC\, en particular LHCb\, lo qu
 e se ha aprendido de ellos y lo que es esperable aprender.\n\nhttps://indi
 co.ific.uv.es/event/2814/
LOCATION:Santiago de Compostela
URL:https://indico.ific.uv.es/event/2814/
END:VEVENT
END:VCALENDAR
