BEGIN:VCALENDAR
VERSION:2.0
PRODID:-//CERN//INDICO//EN
BEGIN:VEVENT
SUMMARY:News about top?
DTSTART;VALUE=DATE-TIME:20160801T125000Z
DTEND;VALUE=DATE-TIME:20160801T125100Z
DTSTAMP;VALUE=DATE-TIME:20260424T081445Z
UID:indico-contribution-2782-3847@indico.ific.uv.es
DESCRIPTION:Speakers: Martín Perelló (IFIC\, Valencia)\, Nacho Garcia (P
 hD student)\nhttps://indico.ific.uv.es/event/2782/contributions/3847/
LOCATION:Universe 1001-Primera-119 - Nave. Exp. Sala de Reuniones
URL:https://indico.ific.uv.es/event/2782/contributions/3847/
END:VEVENT
BEGIN:VEVENT
SUMMARY:ILC Mockup
DTSTART;VALUE=DATE-TIME:20160801T134000Z
DTEND;VALUE=DATE-TIME:20160801T140000Z
DTSTAMP;VALUE=DATE-TIME:20260424T081445Z
UID:indico-contribution-2782-3846@indico.ific.uv.es
DESCRIPTION:Speakers: Miguel Angel Villarejo Bermúdez (IFIC-UV)\nhttps://
 indico.ific.uv.es/event/2782/contributions/3846/
LOCATION:Universe 1001-Primera-119 - Nave. Exp. Sala de Reuniones
URL:https://indico.ific.uv.es/event/2782/contributions/3846/
END:VEVENT
BEGIN:VEVENT
SUMMARY:Summer Student Evaluation
DTSTART;VALUE=DATE-TIME:20160801T142000Z
DTEND;VALUE=DATE-TIME:20160801T144000Z
DTSTAMP;VALUE=DATE-TIME:20260424T081445Z
UID:indico-contribution-2782-3845@indico.ific.uv.es
DESCRIPTION:Speakers: Martín Perelló (IFIC\, Valencia)\nhttps://indico.i
 fic.uv.es/event/2782/contributions/3845/
LOCATION:Universe 1001-Primera-119 - Nave. Exp. Sala de Reuniones
URL:https://indico.ific.uv.es/event/2782/contributions/3845/
END:VEVENT
BEGIN:VEVENT
SUMMARY:General Discussion
DTSTART;VALUE=DATE-TIME:20160801T144000Z
DTEND;VALUE=DATE-TIME:20160801T150000Z
DTSTAMP;VALUE=DATE-TIME:20260424T081445Z
UID:indico-contribution-2782-3844@indico.ific.uv.es
DESCRIPTION:https://indico.ific.uv.es/event/2782/contributions/3844/
LOCATION:Universe 1001-Primera-119 - Nave. Exp. Sala de Reuniones
URL:https://indico.ific.uv.es/event/2782/contributions/3844/
END:VEVENT
BEGIN:VEVENT
SUMMARY:DAQ Temperatures
DTSTART;VALUE=DATE-TIME:20160801T130000Z
DTEND;VALUE=DATE-TIME:20160801T132000Z
DTSTAMP;VALUE=DATE-TIME:20260424T081445Z
UID:indico-contribution-2782-3843@indico.ific.uv.es
DESCRIPTION:Speakers: José Manuel del Toro ()\nEstatus proyecto\nBreve de
 scripción del los flexcables\n\nhttps://indico.ific.uv.es/event/2782/cont
 ributions/3843/
LOCATION:Universe 1001-Primera-119 - Nave. Exp. Sala de Reuniones
URL:https://indico.ific.uv.es/event/2782/contributions/3843/
END:VEVENT
BEGIN:VEVENT
SUMMARY:Viajes
DTSTART;VALUE=DATE-TIME:20160801T140000Z
DTEND;VALUE=DATE-TIME:20160801T142000Z
DTSTAMP;VALUE=DATE-TIME:20260424T081445Z
UID:indico-contribution-2782-3842@indico.ific.uv.es
DESCRIPTION:Quién va al CLIC Workshop\nQuién va al Vertex y Oxford\n\nht
 tps://indico.ific.uv.es/event/2782/contributions/3842/
LOCATION:Universe 1001-Primera-119 - Nave. Exp. Sala de Reuniones
URL:https://indico.ific.uv.es/event/2782/contributions/3842/
END:VEVENT
BEGIN:VEVENT
SUMMARY:CERN tests Update
DTSTART;VALUE=DATE-TIME:20160801T123000Z
DTEND;VALUE=DATE-TIME:20160801T125000Z
DTSTAMP;VALUE=DATE-TIME:20260424T081445Z
UID:indico-contribution-2782-3841@indico.ific.uv.es
DESCRIPTION:Speakers: Nacho Garcia (PhD student)\nhttps://indico.ific.uv.e
 s/event/2782/contributions/3841/
LOCATION:Universe 1001-Primera-119 - Nave. Exp. Sala de Reuniones
URL:https://indico.ific.uv.es/event/2782/contributions/3841/
END:VEVENT
BEGIN:VEVENT
SUMMARY:New MCC + Irradiation tests to 3D parts
DTSTART;VALUE=DATE-TIME:20160801T132000Z
DTEND;VALUE=DATE-TIME:20160801T134000Z
DTSTAMP;VALUE=DATE-TIME:20260424T081445Z
UID:indico-contribution-2782-3840@indico.ific.uv.es
DESCRIPTION:Speakers: marcel vos (IFIC Valencia)\nAlguna novedad de los nu
 evos MCC?\nCarlos decía en algún email la posibilidad de hacer tests de 
 irradiación a probetas \nSabemos algo de la máquina de leak test del IFI
 MED?\n\nhttps://indico.ific.uv.es/event/2782/contributions/3840/
LOCATION:Universe 1001-Primera-119 - Nave. Exp. Sala de Reuniones
URL:https://indico.ific.uv.es/event/2782/contributions/3840/
END:VEVENT
END:VCALENDAR
