BEGIN:VCALENDAR
VERSION:2.0
PRODID:-//CERN//INDICO//EN
BEGIN:VEVENT
SUMMARY:Summer Student Evaluation
DTSTART;VALUE=DATE-TIME:20160801T142000Z
DTEND;VALUE=DATE-TIME:20160801T144000Z
DTSTAMP;VALUE=DATE-TIME:20260424T045016Z
UID:indico-contribution-3845@indico.ific.uv.es
DESCRIPTION:Speakers: Martín Perelló (IFIC\, Valencia)\nhttps://indico.i
 fic.uv.es/event/2782/contributions/3845/
LOCATION:Universe 1001-Primera-119 - Nave. Exp. Sala de Reuniones
URL:https://indico.ific.uv.es/event/2782/contributions/3845/
END:VEVENT
END:VCALENDAR
