BEGIN:VCALENDAR
VERSION:2.0
PRODID:-//CERN//INDICO//EN
BEGIN:VEVENT
SUMMARY:Viajes
DTSTART;VALUE=DATE-TIME:20160801T140000Z
DTEND;VALUE=DATE-TIME:20160801T142000Z
DTSTAMP;VALUE=DATE-TIME:20260423T114822Z
UID:indico-contribution-3842@indico.ific.uv.es
DESCRIPTION:Quién va al CLIC Workshop\nQuién va al Vertex y Oxford\n\nht
 tps://indico.ific.uv.es/event/2782/contributions/3842/
LOCATION:Universe 1001-Primera-119 - Nave. Exp. Sala de Reuniones
URL:https://indico.ific.uv.es/event/2782/contributions/3842/
END:VEVENT
END:VCALENDAR
