BEGIN:VCALENDAR
VERSION:2.0
PRODID:-//CERN//INDICO//EN
BEGIN:VEVENT
SUMMARY:CERN tests Update
DTSTART;VALUE=DATE-TIME:20160801T123000Z
DTEND;VALUE=DATE-TIME:20160801T125000Z
DTSTAMP;VALUE=DATE-TIME:20260424T045102Z
UID:indico-contribution-3841@indico.ific.uv.es
DESCRIPTION:Speakers: Nacho Garcia (PhD student)\nhttps://indico.ific.uv.e
 s/event/2782/contributions/3841/
LOCATION:Universe 1001-Primera-119 - Nave. Exp. Sala de Reuniones
URL:https://indico.ific.uv.es/event/2782/contributions/3841/
END:VEVENT
END:VCALENDAR
