BEGIN:VCALENDAR
VERSION:2.0
PRODID:-//CERN//INDICO//EN
BEGIN:VEVENT
SUMMARY:Estudio del quark top y de detectores de silicio con Alibava
DTSTART;VALUE=DATE-TIME:20160722T094000Z
DTEND;VALUE=DATE-TIME:20160722T100000Z
DTSTAMP;VALUE=DATE-TIME:20260424T222108Z
UID:indico-contribution-499-3709@indico.ific.uv.es
DESCRIPTION:Speakers: Víctor Bresó ()\nhttps://indico.ific.uv.es/event/2
 770/contributions/3709/
LOCATION:Nave Experimental Sala de Audiovisuales
URL:https://indico.ific.uv.es/event/2770/contributions/3709/
END:VEVENT
BEGIN:VEVENT
SUMMARY:Niveles energéticos nucleares
DTSTART;VALUE=DATE-TIME:20160722T100000Z
DTEND;VALUE=DATE-TIME:20160722T102000Z
DTSTAMP;VALUE=DATE-TIME:20260424T222108Z
UID:indico-contribution-499-3708@indico.ific.uv.es
DESCRIPTION:Speakers: Cristina Lagunas\, Natalia Tejedor ()\nhttps://indic
 o.ific.uv.es/event/2770/contributions/3708/
LOCATION:Nave Experimental Sala de Audiovisuales
URL:https://indico.ific.uv.es/event/2770/contributions/3708/
END:VEVENT
BEGIN:VEVENT
SUMMARY:Reconstrucción de trazas en Next con DNN
DTSTART;VALUE=DATE-TIME:20160722T102000Z
DTEND;VALUE=DATE-TIME:20160722T104000Z
DTSTAMP;VALUE=DATE-TIME:20260424T222108Z
UID:indico-contribution-499-3707@indico.ific.uv.es
DESCRIPTION:Speakers: Iván García\, Victoria Sánchez ()\nhttps://indico
 .ific.uv.es/event/2770/contributions/3707/
LOCATION:Nave Experimental Sala de Audiovisuales
URL:https://indico.ific.uv.es/event/2770/contributions/3707/
END:VEVENT
BEGIN:VEVENT
SUMMARY:Proyecto Tier2-ATLAS / GRID Y e-CIENCIA
DTSTART;VALUE=DATE-TIME:20160722T104000Z
DTEND;VALUE=DATE-TIME:20160722T110000Z
DTSTAMP;VALUE=DATE-TIME:20260424T222108Z
UID:indico-contribution-499-3706@indico.ific.uv.es
DESCRIPTION:Speakers: José LLanes\, David Vallés ()\nhttps://indico.ific
 .uv.es/event/2770/contributions/3706/
LOCATION:Nave Experimental Sala de Audiovisuales
URL:https://indico.ific.uv.es/event/2770/contributions/3706/
END:VEVENT
BEGIN:VEVENT
SUMMARY:ATLAS
DTSTART;VALUE=DATE-TIME:20160722T110000Z
DTEND;VALUE=DATE-TIME:20160722T112000Z
DTSTAMP;VALUE=DATE-TIME:20260424T222108Z
UID:indico-contribution-499-3705@indico.ific.uv.es
DESCRIPTION:Speakers: Jorge Merchan\, Laia Parets ()\nhttps://indico.ific.
 uv.es/event/2770/contributions/3705/
LOCATION:Nave Experimental Sala de Audiovisuales
URL:https://indico.ific.uv.es/event/2770/contributions/3705/
END:VEVENT
BEGIN:VEVENT
SUMMARY:Necesidad de un acelerador lineal: grupo de nuevos aceleradores
DTSTART;VALUE=DATE-TIME:20160722T112000Z
DTEND;VALUE=DATE-TIME:20160722T114000Z
DTSTAMP;VALUE=DATE-TIME:20260424T222108Z
UID:indico-contribution-499-3704@indico.ific.uv.es
DESCRIPTION:Speakers: Alberto Prades ()\nhttps://indico.ific.uv.es/event/2
 770/contributions/3704/
LOCATION:Nave Experimental Sala de Audiovisuales
URL:https://indico.ific.uv.es/event/2770/contributions/3704/
END:VEVENT
BEGIN:VEVENT
SUMMARY:Telescopio Compton y sus aplicaciones
DTSTART;VALUE=DATE-TIME:20160722T090000Z
DTEND;VALUE=DATE-TIME:20160722T092000Z
DTSTAMP;VALUE=DATE-TIME:20260424T222108Z
UID:indico-contribution-499-3703@indico.ific.uv.es
DESCRIPTION:Speakers: Diana Andrés ()\nhttps://indico.ific.uv.es/event/27
 70/contributions/3703/
LOCATION:Nave Experimental Sala de Audiovisuales
URL:https://indico.ific.uv.es/event/2770/contributions/3703/
END:VEVENT
BEGIN:VEVENT
SUMMARY:Estudio del canal de desintegración Λ_𝒃^𝟎→Λ^𝟎   𝑱
 /Ψ
DTSTART;VALUE=DATE-TIME:20160722T092000Z
DTEND;VALUE=DATE-TIME:20160722T094000Z
DTSTAMP;VALUE=DATE-TIME:20260424T222108Z
UID:indico-contribution-499-3702@indico.ific.uv.es
DESCRIPTION:Speakers: Jorge Baeza\, Raquel Forés ()\nhttps://indico.ific.
 uv.es/event/2770/contributions/3702/
LOCATION:Nave Experimental Sala de Audiovisuales
URL:https://indico.ific.uv.es/event/2770/contributions/3702/
END:VEVENT
BEGIN:VEVENT
SUMMARY:Selección de eventos en T2K
DTSTART;VALUE=DATE-TIME:20160722T114000Z
DTEND;VALUE=DATE-TIME:20160722T120000Z
DTSTAMP;VALUE=DATE-TIME:20260424T222108Z
UID:indico-contribution-499-3694@indico.ific.uv.es
DESCRIPTION:Speakers: Alfredo Blasco\, MiguelAngel García ()\nhttps://ind
 ico.ific.uv.es/event/2770/contributions/3694/
LOCATION:Nave Experimental Sala de Audiovisuales
URL:https://indico.ific.uv.es/event/2770/contributions/3694/
END:VEVENT
BEGIN:VEVENT
SUMMARY:Método de Máxima Verosimilitud en Telescopios de neutrinos
DTSTART;VALUE=DATE-TIME:20160722T084000Z
DTEND;VALUE=DATE-TIME:20160722T090000Z
DTSTAMP;VALUE=DATE-TIME:20260424T222108Z
UID:indico-contribution-499-3685@indico.ific.uv.es
DESCRIPTION:Speakers: Paula Barber\, Pablo Escribano\, Antonio Muñoz ()\n
 https://indico.ific.uv.es/event/2770/contributions/3685/
LOCATION:Nave Experimental Sala de Audiovisuales
URL:https://indico.ific.uv.es/event/2770/contributions/3685/
END:VEVENT
BEGIN:VEVENT
SUMMARY:Física Nuclear
DTSTART;VALUE=DATE-TIME:20160722T082000Z
DTEND;VALUE=DATE-TIME:20160722T084000Z
DTSTAMP;VALUE=DATE-TIME:20260424T222108Z
UID:indico-contribution-499-3684@indico.ific.uv.es
DESCRIPTION:Speakers: David Albandea ()\nhttps://indico.ific.uv.es/event/2
 770/contributions/3684/
LOCATION:Nave Experimental Sala de Audiovisuales
URL:https://indico.ific.uv.es/event/2770/contributions/3684/
END:VEVENT
BEGIN:VEVENT
SUMMARY:Crystal Ball\, Simulación con Geant 4
DTSTART;VALUE=DATE-TIME:20160722T080000Z
DTEND;VALUE=DATE-TIME:20160722T082000Z
DTSTAMP;VALUE=DATE-TIME:20260424T222108Z
UID:indico-contribution-499-3679@indico.ific.uv.es
DESCRIPTION:Speakers: Jorge Romero ()\nhttps://indico.ific.uv.es/event/277
 0/contributions/3679/
LOCATION:Nave Experimental Sala de Audiovisuales
URL:https://indico.ific.uv.es/event/2770/contributions/3679/
END:VEVENT
END:VCALENDAR
