BEGIN:VCALENDAR
VERSION:2.0
PRODID:-//CERN//INDICO//EN
BEGIN:VEVENT
SUMMARY:Session 5
DTSTART;VALUE=DATE-TIME:20160506T073000Z
DTEND;VALUE=DATE-TIME:20160506T163000Z
DTSTAMP;VALUE=DATE-TIME:20260424T120100Z
UID:indico-event-494@indico.ific.uv.es
DESCRIPTION:https://indico.ific.uv.es/event/2742/sessions/494/
LOCATION:
URL:https://indico.ific.uv.es/event/2742/sessions/494/
END:VEVENT
END:VCALENDAR
