BEGIN:VCALENDAR
VERSION:2.0
PRODID:-//CERN//INDICO//EN
BEGIN:VEVENT
SUMMARY:Session 2
DTSTART;VALUE=DATE-TIME:20160503T073000Z
DTEND;VALUE=DATE-TIME:20160503T163000Z
DTSTAMP;VALUE=DATE-TIME:20260424T150529Z
UID:indico-event-493@indico.ific.uv.es
DESCRIPTION:https://indico.ific.uv.es/event/2742/sessions/493/
LOCATION:
URL:https://indico.ific.uv.es/event/2742/sessions/493/
END:VEVENT
END:VCALENDAR
