BEGIN:VCALENDAR
VERSION:2.0
PRODID:-//CERN//INDICO//EN
BEGIN:VEVENT
SUMMARY:TileCal Meeting
DTSTART;VALUE=DATE-TIME:20070827T123000Z
DTEND;VALUE=DATE-TIME:20070827T160000Z
DTSTAMP;VALUE=DATE-TIME:20260420T135202Z
UID:indico-event-27@indico.ific.uv.es
DESCRIPTION:https://indico.ific.uv.es/event/27/
LOCATION:IFIC-CERN-Fermilab
URL:https://indico.ific.uv.es/event/27/
END:VEVENT
END:VCALENDAR
