BEGIN:VCALENDAR
VERSION:2.0
PRODID:-//CERN//INDICO//EN
BEGIN:VEVENT
SUMMARY:OF Calibration constants offline-online
DTSTART;VALUE=DATE-TIME:20070827T125500Z
DTEND;VALUE=DATE-TIME:20070827T130500Z
DTSTAMP;VALUE=DATE-TIME:20260423T220624Z
UID:indico-contribution-3527@indico.ific.uv.es
DESCRIPTION:Speakers: Belen Salvachua (IFIC)\, Ximo Poveda (IFIC - Valenci
 a)\nhttps://indico.ific.uv.es/event/27/contributions/3527/
LOCATION:IFIC-CERN-Fermilab
URL:https://indico.ific.uv.es/event/27/contributions/3527/
END:VEVENT
END:VCALENDAR
