BEGIN:VCALENDAR
VERSION:2.0
PRODID:-//CERN//INDICO//EN
BEGIN:VEVENT
SUMMARY:Higgs to taus CDF analysis
DTSTART;VALUE=DATE-TIME:20070827T140000Z
DTEND;VALUE=DATE-TIME:20070827T144500Z
DTSTAMP;VALUE=DATE-TIME:20260423T220600Z
UID:indico-contribution-3525@indico.ific.uv.es
DESCRIPTION:Speakers: Cristobal Cuenca (IFIC-UC Davis)\nhttps://indico.ifi
 c.uv.es/event/27/contributions/3525/
LOCATION:IFIC-CERN-Fermilab
URL:https://indico.ific.uv.es/event/27/contributions/3525/
END:VEVENT
END:VCALENDAR
