BEGIN:VCALENDAR
VERSION:2.0
PRODID:-//CERN//INDICO//EN
BEGIN:VEVENT
SUMMARY:Tier2-Tier3 TileCal Issues for Valencia
DTSTART;VALUE=DATE-TIME:20070827T144500Z
DTEND;VALUE=DATE-TIME:20070827T150000Z
DTSTAMP;VALUE=DATE-TIME:20260423T220604Z
UID:indico-contribution-3524@indico.ific.uv.es
DESCRIPTION:Speakers: Bruce Mellado (IFIC-Wisconsin)\nhttps://indico.ific.
 uv.es/event/27/contributions/3524/
LOCATION:IFIC-CERN-Fermilab
URL:https://indico.ific.uv.es/event/27/contributions/3524/
END:VEVENT
END:VCALENDAR
