BEGIN:VCALENDAR
VERSION:2.0
PRODID:-//CERN//INDICO//EN
BEGIN:VEVENT
SUMMARY:Higgs tau-tau l-h: status
DTSTART;VALUE=DATE-TIME:20070827T135000Z
DTEND;VALUE=DATE-TIME:20070827T140000Z
DTSTAMP;VALUE=DATE-TIME:20260424T101222Z
UID:indico-contribution-3522@indico.ific.uv.es
DESCRIPTION:Speakers: Carlos Solans (IFIC-Valencia)\nhttps://indico.ific.u
 v.es/event/27/contributions/3522/
LOCATION:IFIC-CERN-Fermilab
URL:https://indico.ific.uv.es/event/27/contributions/3522/
END:VEVENT
END:VCALENDAR
