BEGIN:VCALENDAR
VERSION:2.0
PRODID:-//CERN//INDICO//EN
BEGIN:VEVENT
SUMMARY:Higss to muons: status
DTSTART;VALUE=DATE-TIME:20070827T132000Z
DTEND;VALUE=DATE-TIME:20070827T133500Z
DTSTAMP;VALUE=DATE-TIME:20260424T131047Z
UID:indico-contribution-3521@indico.ific.uv.es
DESCRIPTION:Speakers: Arantxa Ruiz Martinez (IFIC-Valencia)\nhttps://indic
 o.ific.uv.es/event/27/contributions/3521/
LOCATION:IFIC-CERN-Fermilab
URL:https://indico.ific.uv.es/event/27/contributions/3521/
END:VEVENT
END:VCALENDAR
