BEGIN:VCALENDAR
VERSION:2.0
PRODID:-//CERN//INDICO//EN
BEGIN:VEVENT
SUMMARY:SUSY inclusive jets and QCD background ID
DTSTART;VALUE=DATE-TIME:20070827T133500Z
DTEND;VALUE=DATE-TIME:20070827T135000Z
DTSTAMP;VALUE=DATE-TIME:20260424T005741Z
UID:indico-contribution-3520@indico.ific.uv.es
DESCRIPTION:Speakers: Ximo Poveda (IFIC - Valencia)\nhttps://indico.ific.u
 v.es/event/27/contributions/3520/
LOCATION:IFIC-CERN-Fermilab
URL:https://indico.ific.uv.es/event/27/contributions/3520/
END:VEVENT
END:VCALENDAR
