BEGIN:VCALENDAR
VERSION:2.0
PRODID:-//CERN//INDICO//EN
BEGIN:VEVENT
SUMMARY:sesión 1
DTSTART;VALUE=DATE-TIME:20160119T083000Z
DTEND;VALUE=DATE-TIME:20160119T100000Z
DTSTAMP;VALUE=DATE-TIME:20260423T033640Z
UID:indico-event-461@indico.ific.uv.es
DESCRIPTION:https://indico.ific.uv.es/event/2654/sessions/461/
LOCATION:
URL:https://indico.ific.uv.es/event/2654/sessions/461/
END:VEVENT
END:VCALENDAR
