BEGIN:VCALENDAR
VERSION:2.0
PRODID:-//CERN//INDICO//EN
BEGIN:VEVENT
SUMMARY:sesión 3
DTSTART;VALUE=DATE-TIME:20160126T083000Z
DTEND;VALUE=DATE-TIME:20160126T100000Z
DTSTAMP;VALUE=DATE-TIME:20260423T093422Z
UID:indico-event-460@indico.ific.uv.es
DESCRIPTION:https://indico.ific.uv.es/event/2654/sessions/460/
LOCATION:
URL:https://indico.ific.uv.es/event/2654/sessions/460/
END:VEVENT
END:VCALENDAR
