BEGIN:VCALENDAR
VERSION:2.0
PRODID:-//CERN//INDICO//EN
BEGIN:VEVENT
SUMMARY:sesión 2
DTSTART;VALUE=DATE-TIME:20160125T083000Z
DTEND;VALUE=DATE-TIME:20160125T100000Z
DTSTAMP;VALUE=DATE-TIME:20260423T093421Z
UID:indico-event-459@indico.ific.uv.es
DESCRIPTION:https://indico.ific.uv.es/event/2654/sessions/459/
LOCATION:
URL:https://indico.ific.uv.es/event/2654/sessions/459/
END:VEVENT
END:VCALENDAR
