BEGIN:VCALENDAR
VERSION:2.0
PRODID:-//CERN//INDICO//EN
BEGIN:VEVENT
SUMMARY:.. siguientes sesiones ..
DTSTART;VALUE=DATE-TIME:20160126T220000Z
DTEND;VALUE=DATE-TIME:20160126T225900Z
DTSTAMP;VALUE=DATE-TIME:20260423T093421Z
UID:indico-event-458@indico.ific.uv.es
DESCRIPTION:https://indico.ific.uv.es/event/2654/sessions/458/
LOCATION:
URL:https://indico.ific.uv.es/event/2654/sessions/458/
END:VEVENT
END:VCALENDAR
