BEGIN:VCALENDAR
VERSION:2.0
PRODID:-//CERN//INDICO//EN
BEGIN:VEVENT
SUMMARY:Higgs physics on the lattice: the b quark mass
DTSTART;VALUE=DATE-TIME:20151030T105000Z
DTEND;VALUE=DATE-TIME:20151030T112500Z
DTSTAMP;VALUE=DATE-TIME:20260423T062038Z
UID:indico-contribution-3181@indico.ific.uv.es
DESCRIPTION:Speakers: Michele Della Morte (Odense University\, Denmark)\nh
 ttps://indico.ific.uv.es/event/2609/contributions/3181/
LOCATION:UV Parque Científico 'Salon de Actos' -1st floor-
URL:https://indico.ific.uv.es/event/2609/contributions/3181/
END:VEVENT
END:VCALENDAR
