BEGIN:VCALENDAR
VERSION:2.0
PRODID:-//CERN//INDICO//EN
BEGIN:VEVENT
SUMMARY:The Scheduled Relaxation Jacobi method for the numerical solution 
 of elliptic partial differential equations
DTSTART;VALUE=DATE-TIME:20151030T112500Z
DTEND;VALUE=DATE-TIME:20151030T120000Z
DTSTAMP;VALUE=DATE-TIME:20260423T062037Z
UID:indico-contribution-3180@indico.ific.uv.es
DESCRIPTION:Speakers: Isabel Cordero-Carrión (Universitat de Valencia)\nh
 ttps://indico.ific.uv.es/event/2609/contributions/3180/
LOCATION:UV Parque Científico 'Salon de Actos' -1st floor-
URL:https://indico.ific.uv.es/event/2609/contributions/3180/
END:VEVENT
END:VCALENDAR
