BEGIN:VCALENDAR
VERSION:2.0
PRODID:-//CERN//INDICO//EN
BEGIN:VEVENT
SUMMARY:Comparison of divergence-free techniques in relativistic magneto h
 ydrodynamic simulations
DTSTART;VALUE=DATE-TIME:20151030T090500Z
DTEND;VALUE=DATE-TIME:20151030T094000Z
DTSTAMP;VALUE=DATE-TIME:20260423T062038Z
UID:indico-contribution-3179@indico.ific.uv.es
DESCRIPTION:Speakers: Jin Matsumoto (RIKEN)\nhttps://indico.ific.uv.es/eve
 nt/2609/contributions/3179/
LOCATION:UV Parque Científico 'Salon de Actos' -1st floor-
URL:https://indico.ific.uv.es/event/2609/contributions/3179/
END:VEVENT
END:VCALENDAR
