BEGIN:VCALENDAR
VERSION:2.0
PRODID:-//CERN//INDICO//EN
BEGIN:VEVENT
SUMMARY:The ATLAS Distributed Computing project for LHC Run-2 and beyond
DTSTART;VALUE=DATE-TIME:20151030T101000Z
DTEND;VALUE=DATE-TIME:20151030T105000Z
DTSTAMP;VALUE=DATE-TIME:20260423T114821Z
UID:indico-contribution-3178@indico.ific.uv.es
DESCRIPTION:Speakers: Eric Lançon (ATLAS Computing Coordinator)\nhttps://
 indico.ific.uv.es/event/2609/contributions/3178/
LOCATION:UV Parque Científico 'Salon de Actos' -1st floor-
URL:https://indico.ific.uv.es/event/2609/contributions/3178/
END:VEVENT
END:VCALENDAR
