BEGIN:VCALENDAR
VERSION:2.0
PRODID:-//CERN//INDICO//EN
BEGIN:VEVENT
SUMMARY:Welcome and Introduction
DTSTART;VALUE=DATE-TIME:20151030T081500Z
DTEND;VALUE=DATE-TIME:20151030T083000Z
DTSTAMP;VALUE=DATE-TIME:20260423T114821Z
UID:indico-contribution-3177@indico.ific.uv.es
DESCRIPTION:https://indico.ific.uv.es/event/2609/contributions/3177/
LOCATION:UV Parque Científico 'Salon de Actos' -1st floor-
URL:https://indico.ific.uv.es/event/2609/contributions/3177/
END:VEVENT
END:VCALENDAR
