BEGIN:VCALENDAR
VERSION:2.0
PRODID:-//CERN//INDICO//EN
BEGIN:VEVENT
SUMMARY:AOB
DTSTART;VALUE=DATE-TIME:20070727T140000Z
DTEND;VALUE=DATE-TIME:20070727T142000Z
DTSTAMP;VALUE=DATE-TIME:20260422T105528Z
UID:indico-contribution-3156@indico.ific.uv.es
DESCRIPTION:Speakers: ALL ()\nhttps://indico.ific.uv.es/event/26/contribut
 ions/3156/
LOCATION:IFIC-CERN
URL:https://indico.ific.uv.es/event/26/contributions/3156/
END:VEVENT
END:VCALENDAR
