BEGIN:VCALENDAR
VERSION:2.0
PRODID:-//CERN//INDICO//EN
BEGIN:VEVENT
SUMMARY:Low Pt Muon Trigger Slice: Status and Plans
DTSTART;VALUE=DATE-TIME:20070727T132000Z
DTEND;VALUE=DATE-TIME:20070727T134000Z
DTSTAMP;VALUE=DATE-TIME:20260421T044256Z
UID:indico-contribution-3154@indico.ific.uv.es
DESCRIPTION:Speakers: Arantxa Ruiz Martinez (IFIC-Valencia)\nhttps://indic
 o.ific.uv.es/event/26/contributions/3154/
LOCATION:IFIC-CERN
URL:https://indico.ific.uv.es/event/26/contributions/3154/
END:VEVENT
END:VCALENDAR
