BEGIN:VCALENDAR
VERSION:2.0
PRODID:-//CERN//INDICO//EN
BEGIN:VEVENT
SUMMARY:Online TDAQ Status
DTSTART;VALUE=DATE-TIME:20070727T124000Z
DTEND;VALUE=DATE-TIME:20070727T125000Z
DTSTAMP;VALUE=DATE-TIME:20260424T025651Z
UID:indico-contribution-3152@indico.ific.uv.es
DESCRIPTION:Speakers: Carlos Solans (IFIC-Valencia)\nhttps://indico.ific.u
 v.es/event/26/contributions/3152/
LOCATION:IFIC-CERN
URL:https://indico.ific.uv.es/event/26/contributions/3152/
END:VEVENT
END:VCALENDAR
