BEGIN:VCALENDAR
VERSION:2.0
PRODID:-//CERN//INDICO//EN
BEGIN:VEVENT
SUMMARY:Commissioning Status
DTSTART;VALUE=DATE-TIME:20070727T122000Z
DTEND;VALUE=DATE-TIME:20070727T124000Z
DTSTAMP;VALUE=DATE-TIME:20260421T073001Z
UID:indico-contribution-3149@indico.ific.uv.es
DESCRIPTION:Speakers: Jalal Abdallah (IFIC-Valencia)\nhttps://indico.ific.
 uv.es/event/26/contributions/3149/
LOCATION:IFIC-CERN
URL:https://indico.ific.uv.es/event/26/contributions/3149/
END:VEVENT
END:VCALENDAR
