BEGIN:VCALENDAR
VERSION:2.0
PRODID:-//CERN//INDICO//EN
BEGIN:VEVENT
SUMMARY:Charlas CPAN IES 2015-2016 de Santiago de Compostela: Física Nucl
 ear
DTSTART;VALUE=DATE-TIME:20151001T070000Z
DTEND;VALUE=DATE-TIME:20160528T150000Z
DTSTAMP;VALUE=DATE-TIME:20260419T174830Z
UID:indico-event-2589@indico.ific.uv.es
DESCRIPTION:La Universidad de Santiago de Compostela ofrece las siguientes
  charlas de física nuclear:\n\n    \n        \n            Del corazón d
 e la materia al interior de las estrellas\n        La física nuclear se o
 cupa de estudiar todo lo relacionado con el núcleo atómico: sus caracter
 ísticas\, su comportamiento\, su origen\, etc. El estudio de estas propie
 dades ayuda a entender no sólo el comportamiento de la materia a nivel su
 batómico sinó que también explican la evolución de las estrellas y de 
 otros sistemas que pueblan nuestro universo.\n    \n        \n            
 Impacto social y tecnológico de la investigación en Física Nuclear\n   
      La investigación científica de cualquiera rama de la natureza viene
  siempre acompañada de avances tecnológicos que repercuten en nuestra so
 ciedad. El caso de la física nuclear no es una excepción\, y parte de la
 s técnicas utilizadas en esta investigación se emplean ahora en medicina
 \, producción de energía\, prevención de riesgos medioambientales\, o a
 nálisis de materiales.\n    \n        \n            Física nuclear y ene
 rgía\n        La relación entre la física nuclear y la producción y tr
 atamiento energético es de gran importancia. El estudio científico nos a
 yuda a utilizar los recursos energéticos que ofrece el núcleo atómico d
 e la manera más eficiente y\, al mismo tiempo\, conocer\, preveer\, y red
 ucir sus peligros\, tanto para nosotros como para el medio ambiente.\n\n\n
 https://indico.ific.uv.es/event/2589/
LOCATION:Santiago de Compostela
URL:https://indico.ific.uv.es/event/2589/
END:VEVENT
END:VCALENDAR
