BEGIN:VCALENDAR
VERSION:2.0
PRODID:-//CERN//INDICO//EN
BEGIN:VEVENT
SUMMARY:Charlas CPAN IES 2015-2016 en Santander: Charlas del IFCA
DTSTART;VALUE=DATE-TIME:20151001T070000Z
DTEND;VALUE=DATE-TIME:20160527T150000Z
DTSTAMP;VALUE=DATE-TIME:20260421T110248Z
UID:indico-event-2587@indico.ific.uv.es
DESCRIPTION:El Instituto de Física de Cantabria (IFCA) ofrece las siguien
 tes charlas a IES ubicados en Cantabria:\n\n    Cruzados por rayos cósmic
 os\n\n    Se explica qué son los rayos cósmicos\, cómo entran en la atm
 ósfera de la Tierra y cuál es la energía de los mismos. Se relaciona es
 a energía con la tasa media por metro cuadrado y año y se les explica qu
 e hay rayos cósmicos de altísima energía (mucha mayor que la del LHC) q
 ue llegan a la Tierra. Esta actividad está dirigida a estudiantes de ESO 
 y Bachillerato en general.\n\n    ¿Que hacemos en el LHC?\n\n    Se expli
 ca qué es el LHC y el detector CMS. Se muestra cómo funciona el sistema 
 y cómo se almacenan los datos\, así como la grandiosidad del experimento
  y cómo tiene que estar todo en perfecta sincronizacíon para poder almac
 enar tantos datos y con tanta precisión. Se incluye una expliación sobre
  el sistema GRID de datos. Esta actividad está dirigida a estudiantes de 
 ESO y Bachillerato en general.\n\nhttps://indico.ific.uv.es/event/2587/
LOCATION:Santander
URL:https://indico.ific.uv.es/event/2587/
END:VEVENT
END:VCALENDAR
