BEGIN:VCALENDAR
VERSION:2.0
PRODID:-//CERN//INDICO//EN
BEGIN:VEVENT
SUMMARY:Charlas CPAN IES 2015-2016. Madrid-Instituto de Física Teórica (
 IFT)
DTSTART;VALUE=DATE-TIME:20151001T070000Z
DTEND;VALUE=DATE-TIME:20160531T140000Z
DTSTAMP;VALUE=DATE-TIME:20260420T100328Z
UID:indico-event-2577@indico.ific.uv.es
DESCRIPTION:\n    Los investigadores del Instituto de Física Teórica (IF
 T\, UAM-CSIC) desarrollamos proyectos de investigación en el campo de la 
 Física de Partículas Elementales\, Astropartículas y Cosmología. En F
 ísica de Partículas\, estudiamos el recientemente descubierto bosón de 
 Higgs\, e investigamos teorías que describen nuevos tipos de partículas 
 (como la supersimetría). Exploramos las propiedades de los neutrinos\, y 
 el misterioso origen de su masa. Estudiamos las propiedades de las partíc
 ulas cuánticas con interacciones fuerte\, como los quarks y gluones\, o s
 istemas de materia condensada. Utilizamos la teoría de cuerdas para inten
 tar comprender las partículas\, la gravedad cuántica\, y los agujeros ne
 gros. En Astropartículas y Cosmología\, estudiamos la evolución del Uni
 verso\, desde su origen en el Big Bang\, hasta su composición actual y su
  historia futura. Construimos teorías que describan las misteriosas propi
 edades de la materia oscura y la energía oscura\, y colaboramos con exper
 imentos que intentan detectarlas directamente\, observar estas propiedades
  y determinar su naturaleza.\n\n    Nuestras charlas en centros de secunda
 ria están dirigidas a estudiantes de últimos cursos de ESO y Bachillerat
 o. Tras tu solicitud\, el/la conferenciante se pondrá en contacto contigo
  por correo electrónico para concretar conjuntamente la fecha\, horario\,
  y demás detalles de la charla.\n\n    Las charlas propuestas son a títu
 lo orientativo\, y los temas que se cubren se pueden complementar con otro
 s campos de investigación del Instituto de Física Teórica que resulten 
 interesantes para tus alumnos.\n\n    Física de Partículas y Cosmología
 : de lo infinitamente pequeño a lo infinitamente grande\n\n    En esta ch
 arla describiremos las fronteras de la Física Fundamental\, en el régime
 n de lo infinitamente pequeño y de lo infinitamente grande. Nos adentrare
 mos en el fascinante mundo de las Partículas Elementales\, los constituye
 ntes más pequeños de la materia que nos rodea. Y repasaremos la Cosmolog
 ía\, que describe la historia y la composición del Universo. Esta visió
 n nos permitirá asomarnos a algunos de los mayores misterios de la cienci
 a del siglo XXI\, como la naturaleza de la partícula de Higgs\, o la mate
 ria y energía oscuras en el Universo.\n\n    Cosmología moderna: la Hist
 oria del Universo\n\n    La Cosmología describe nuestro conocimiento sobr
 e el Universo como un todo: su origen en el Big Bang\, su dinámica de exp
 ansión\, su composición actual y su historia futura. Describiremos esta 
 evolución\, deteniéndonos en los momentos más importantes\, como la for
 mación de los núcleos y los átomos\, el origen del fondo de radiación 
 de microondas\, y la formación de estructuras a gran escala\, como las ga
 laxias y cúmulos de galaxias. El estudio de estos fenómenos revela que e
 l Universo actual tiene una composición sorprendente y misteriosa\, ya qu
 e un 95% de su contenido corresponde a las llamadas materia oscura y energ
 ía oscura\, de naturaleza aún desconocida. El estudio de estas component
 es es uno de los retos más fascinantes de la ciencia del siglo XXI.\n\n  
   Física de Partículas\, el LHC y el bosón de Higgs\n\n    El acelerado
 r LHC en el CERN\, Ginebra\, es la máquina más compleja construida por l
 a Humanidad. Su objetivo es aclarar los misterios de la Física de Partíc
 ulas en la frontera de las altas energías y más allá. Su primer gran é
 xito ha sido el descubrimiento del bosón de Higgs\, que ocupa un lugar cl
 ave en nuestra comprensión del universo y revela secretos íntimos de la 
 naturaleza sobre hechos muy básicos\, tan básicos que a menudo ni siquie
 ra pensamos sobre ellos. Sin embargo\, tampoco lo explica todo. La natural
 eza guarda misterios fascinantes que aún no han sido desvelados.\n\nhttps
 ://indico.ific.uv.es/event/2577/
LOCATION:Madrid
URL:https://indico.ific.uv.es/event/2577/
END:VEVENT
END:VCALENDAR
