BEGIN:VCALENDAR
VERSION:2.0
PRODID:-//CERN//INDICO//EN
BEGIN:VEVENT
SUMMARY:Present and future of the IFIMED research activities in medical im
 aging
DTSTART;VALUE=DATE-TIME:20151016T101500Z
DTEND;VALUE=DATE-TIME:20151016T105000Z
DTSTAMP;VALUE=DATE-TIME:20260421T023343Z
UID:indico-contribution-373-3060@indico.ific.uv.es
DESCRIPTION:Speakers: Gabriela Llosá (IFIC)\, Josep Oliver (IFIC)\nhttps:
 //indico.ific.uv.es/event/2545/contributions/3060/
LOCATION:UV Parque Cientifico 'Salon de Actos' -1st floor-
URL:https://indico.ific.uv.es/event/2545/contributions/3060/
END:VEVENT
BEGIN:VEVENT
SUMMARY:IFIMED Labs: High-Gradient RF
DTSTART;VALUE=DATE-TIME:20151016T105000Z
DTEND;VALUE=DATE-TIME:20151016T112500Z
DTSTAMP;VALUE=DATE-TIME:20260421T023343Z
UID:indico-contribution-373-3059@indico.ific.uv.es
DESCRIPTION:Speakers: Daniel Esperante (IFIC)\, Jorge Giner Navarro (CERN)
 \nhttps://indico.ific.uv.es/event/2545/contributions/3059/
LOCATION:UV Parque Cientifico 'Salon de Actos' -1st floor-
URL:https://indico.ific.uv.es/event/2545/contributions/3059/
END:VEVENT
BEGIN:VEVENT
SUMMARY:Installation and commissioning of the Dresden Proton Therapy Cente
 r and first clinical experiences
DTSTART;VALUE=DATE-TIME:20151016T081000Z
DTEND;VALUE=DATE-TIME:20151016T084500Z
DTSTAMP;VALUE=DATE-TIME:20260421T023343Z
UID:indico-contribution-373-3058@indico.ific.uv.es
DESCRIPTION:Speakers: Kristin Stützer (Technische Universität Dresden)\n
 https://indico.ific.uv.es/event/2545/contributions/3058/
LOCATION:UV Parque Cientifico 'Salon de Actos' -1st floor-
URL:https://indico.ific.uv.es/event/2545/contributions/3058/
END:VEVENT
BEGIN:VEVENT
SUMMARY:CERN accelerators\, the discovery of the Higgs’ Boson and Medica
 l Applications
DTSTART;VALUE=DATE-TIME:20151016T091500Z
DTEND;VALUE=DATE-TIME:20151016T101500Z
DTSTAMP;VALUE=DATE-TIME:20260421T023343Z
UID:indico-contribution-373-3057@indico.ific.uv.es
DESCRIPTION:Speakers: Stephen Myers (CERN\, Geneva)\nIFIC's Colloquium\n\n
 https://indico.ific.uv.es/event/2545/contributions/3057/
LOCATION:UV Parque Cientifico 'Salon de Actos' -1st floor-
URL:https://indico.ific.uv.es/event/2545/contributions/3057/
END:VEVENT
BEGIN:VEVENT
SUMMARY:Introduction and IFIMED
DTSTART;VALUE=DATE-TIME:20151016T072000Z
DTEND;VALUE=DATE-TIME:20151016T073500Z
DTSTAMP;VALUE=DATE-TIME:20260421T023343Z
UID:indico-contribution-373-3056@indico.ific.uv.es
DESCRIPTION:Speakers: Jose Bernabeu Alberola (IFIC)\nhttps://indico.ific.u
 v.es/event/2545/contributions/3056/
LOCATION:UV Parque Cientifico 'Salon de Actos' -1st floor-
URL:https://indico.ific.uv.es/event/2545/contributions/3056/
END:VEVENT
BEGIN:VEVENT
SUMMARY:La Física del Cáncer. Reflexiones de un físico de hospital
DTSTART;VALUE=DATE-TIME:20151016T073500Z
DTEND;VALUE=DATE-TIME:20151016T081000Z
DTSTAMP;VALUE=DATE-TIME:20260421T023343Z
UID:indico-contribution-373-3055@indico.ific.uv.es
DESCRIPTION:Speakers: Vicente Crispín (IVO)\nhttps://indico.ific.uv.es/ev
 ent/2545/contributions/3055/
LOCATION:UV Parque Cientifico 'Salon de Actos' -1st floor-
URL:https://indico.ific.uv.es/event/2545/contributions/3055/
END:VEVENT
END:VCALENDAR
