BEGIN:VCALENDAR
VERSION:2.0
PRODID:-//CERN//INDICO//EN
BEGIN:VEVENT
SUMMARY:Welcome and Introduction
DTSTART;VALUE=DATE-TIME:20151023T065500Z
DTEND;VALUE=DATE-TIME:20151023T070000Z
DTSTAMP;VALUE=DATE-TIME:20260422T155717Z
UID:indico-contribution-372-3054@indico.ific.uv.es
DESCRIPTION:Speakers: Gabriela Barenboim (IFIC)\nhttps://indico.ific.uv.es
 /event/2544/contributions/3054/
LOCATION:UV Parque Cientifico 'Salon de Actos' -1st floor-
URL:https://indico.ific.uv.es/event/2544/contributions/3054/
END:VEVENT
BEGIN:VEVENT
SUMMARY:Neutrino Masses and Mixing Angles: a tribute to Guido Altarelli
DTSTART;VALUE=DATE-TIME:20151023T093000Z
DTEND;VALUE=DATE-TIME:20151023T102000Z
DTSTAMP;VALUE=DATE-TIME:20260422T155717Z
UID:indico-contribution-372-3053@indico.ific.uv.es
DESCRIPTION:Speakers: Ferruccio Feruglio (INFN\, Padua)\nhttps://indico.if
 ic.uv.es/event/2544/contributions/3053/
LOCATION:UV Parque Cientifico 'Salon de Actos' -1st floor-
URL:https://indico.ific.uv.es/event/2544/contributions/3053/
END:VEVENT
BEGIN:VEVENT
SUMMARY:Perturbative QCD
DTSTART;VALUE=DATE-TIME:20151023T103000Z
DTEND;VALUE=DATE-TIME:20151023T112000Z
DTSTAMP;VALUE=DATE-TIME:20260422T155717Z
UID:indico-contribution-372-3052@indico.ific.uv.es
DESCRIPTION:Speakers: German Rodrigo (IFIC\, Valencia)\nhttps://indico.ifi
 c.uv.es/event/2544/contributions/3052/
LOCATION:UV Parque Cientifico 'Salon de Actos' -1st floor-
URL:https://indico.ific.uv.es/event/2544/contributions/3052/
END:VEVENT
BEGIN:VEVENT
SUMMARY:Dynamically broken Supergravity\, Starobinsky-type inflation and r
 unning vacuum: towards a fundamental cosmic picture
DTSTART;VALUE=DATE-TIME:20151023T070000Z
DTEND;VALUE=DATE-TIME:20151023T075000Z
DTSTAMP;VALUE=DATE-TIME:20260422T155717Z
UID:indico-contribution-372-3051@indico.ific.uv.es
DESCRIPTION:Speakers: N. E. Mavromatos (King’s College London & CERN-PH-
 TH)\nhttps://indico.ific.uv.es/event/2544/contributions/3051/
LOCATION:UV Parque Cientifico 'Salon de Actos' -1st floor-
URL:https://indico.ific.uv.es/event/2544/contributions/3051/
END:VEVENT
BEGIN:VEVENT
SUMMARY:The golden age of Cosmology
DTSTART;VALUE=DATE-TIME:20151023T080000Z
DTEND;VALUE=DATE-TIME:20151023T085000Z
DTSTAMP;VALUE=DATE-TIME:20260422T155717Z
UID:indico-contribution-372-3050@indico.ific.uv.es
DESCRIPTION:Speakers: Juan Garcia-Bellido (IFT\, Madrid)\nhttps://indico.i
 fic.uv.es/event/2544/contributions/3050/
LOCATION:UV Parque Cientifico 'Salon de Actos' -1st floor-
URL:https://indico.ific.uv.es/event/2544/contributions/3050/
END:VEVENT
END:VCALENDAR
