BEGIN:VCALENDAR
VERSION:2.0
PRODID:-//CERN//INDICO//EN
BEGIN:VEVENT
SUMMARY:Neutrino Masses and Mixing Angles: a tribute to Guido Altarelli
DTSTART;VALUE=DATE-TIME:20151023T093000Z
DTEND;VALUE=DATE-TIME:20151023T102000Z
DTSTAMP;VALUE=DATE-TIME:20260421T143805Z
UID:indico-contribution-3053@indico.ific.uv.es
DESCRIPTION:Speakers: Ferruccio Feruglio (INFN\, Padua)\nhttps://indico.if
 ic.uv.es/event/2544/contributions/3053/
LOCATION:UV Parque Cientifico 'Salon de Actos' -1st floor-
URL:https://indico.ific.uv.es/event/2544/contributions/3053/
END:VEVENT
END:VCALENDAR
