BEGIN:VCALENDAR
VERSION:2.0
PRODID:-//CERN//INDICO//EN
BEGIN:VEVENT
SUMMARY:Transparent conducting oxides under compression: an in-situ X Ray 
 and Raman study
DTSTART;VALUE=DATE-TIME:20150908T094500Z
DTEND;VALUE=DATE-TIME:20150908T101000Z
DTSTAMP;VALUE=DATE-TIME:20260423T071435Z
UID:indico-contribution-2927@indico.ific.uv.es
DESCRIPTION:Speakers: Alka B. Garg (Bhabha Atomic Research Centre)\nhttps:
 //indico.ific.uv.es/event/2537/contributions/2927/
LOCATION:Universidad de Valencia\, Campus Burjassot Biblioteca -Salón -
URL:https://indico.ific.uv.es/event/2537/contributions/2927/
END:VEVENT
END:VCALENDAR
