BEGIN:VCALENDAR
VERSION:2.0
PRODID:-//CERN//INDICO//EN
BEGIN:VEVENT
SUMMARY:High pressure engineering of nanocarbons
DTSTART;VALUE=DATE-TIME:20150908T101000Z
DTEND;VALUE=DATE-TIME:20150908T105500Z
DTSTAMP;VALUE=DATE-TIME:20260423T071435Z
UID:indico-contribution-2926@indico.ific.uv.es
DESCRIPTION:Speakers: Alfonso San Miguel (Institut Lumière Matière - U. 
 de Lyon et CNRS)\nhttps://indico.ific.uv.es/event/2537/contributions/2926/
LOCATION:Universidad de Valencia\, Campus Burjassot Biblioteca -Salón -
URL:https://indico.ific.uv.es/event/2537/contributions/2926/
END:VEVENT
END:VCALENDAR
