BEGIN:VCALENDAR
VERSION:2.0
PRODID:-//CERN//INDICO//EN
BEGIN:VEVENT
SUMMARY:CO2 P-T Phase Diagram: Structural and chemical transformations for
  enhanced reactivity
DTSTART;VALUE=DATE-TIME:20150908T082000Z
DTEND;VALUE=DATE-TIME:20150908T084500Z
DTSTAMP;VALUE=DATE-TIME:20260423T071435Z
UID:indico-contribution-2925@indico.ific.uv.es
DESCRIPTION:Speakers: David Santamaria-Perez (Earth\, Planetary\, and Spac
 e Sciences - UCLA)\nhttps://indico.ific.uv.es/event/2537/contributions/292
 5/
LOCATION:Universidad de Valencia\, Campus Burjassot Biblioteca -Salón -
URL:https://indico.ific.uv.es/event/2537/contributions/2925/
END:VEVENT
END:VCALENDAR
