BEGIN:VCALENDAR
VERSION:2.0
PRODID:-//CERN//INDICO//EN
BEGIN:VEVENT
SUMMARY:Pressure-induced gas trapping in molecular solids
DTSTART;VALUE=DATE-TIME:20150908T092000Z
DTEND;VALUE=DATE-TIME:20150908T094500Z
DTSTAMP;VALUE=DATE-TIME:20260423T071434Z
UID:indico-contribution-2924@indico.ific.uv.es
DESCRIPTION:Speakers: Juan Angel Sans (U. Politécnica de Valencia)\nhttps
 ://indico.ific.uv.es/event/2537/contributions/2924/
LOCATION:Universidad de Valencia\, Campus Burjassot Biblioteca -Salón -
URL:https://indico.ific.uv.es/event/2537/contributions/2924/
END:VEVENT
END:VCALENDAR
