BEGIN:VCALENDAR
VERSION:2.0
PRODID:-//CERN//INDICO//EN
BEGIN:VEVENT
SUMMARY:Introduction and welcome by IVICFA Chairman
DTSTART;VALUE=DATE-TIME:20150908T073000Z
DTEND;VALUE=DATE-TIME:20150908T073500Z
DTSTAMP;VALUE=DATE-TIME:20260423T071435Z
UID:indico-contribution-2923@indico.ific.uv.es
DESCRIPTION:Speakers: Jose Bernabeu Alberola ()\nhttps://indico.ific.uv.es
 /event/2537/contributions/2923/
LOCATION:Universidad de Valencia\, Campus Burjassot Biblioteca -Salón -
URL:https://indico.ific.uv.es/event/2537/contributions/2923/
END:VEVENT
END:VCALENDAR
