BEGIN:VCALENDAR
VERSION:2.0
PRODID:-//CERN//INDICO//EN
BEGIN:VEVENT
SUMMARY:Diffraction in a flash: Shock melting at extreme conditions using 
 femtosecond X-ray diffraction
DTSTART;VALUE=DATE-TIME:20150908T073500Z
DTEND;VALUE=DATE-TIME:20150908T082000Z
DTSTAMP;VALUE=DATE-TIME:20260423T071434Z
UID:indico-contribution-2922@indico.ific.uv.es
DESCRIPTION:Speakers: Richard Briggs (CSEC - University of Edinburgh)\nhtt
 ps://indico.ific.uv.es/event/2537/contributions/2922/
LOCATION:Universidad de Valencia\, Campus Burjassot Biblioteca -Salón -
URL:https://indico.ific.uv.es/event/2537/contributions/2922/
END:VEVENT
END:VCALENDAR
