BEGIN:VCALENDAR
VERSION:2.0
PRODID:-//CERN//INDICO//EN
BEGIN:VEVENT
SUMMARY:Commissioning planning
DTSTART;VALUE=DATE-TIME:20150723T120000Z
DTEND;VALUE=DATE-TIME:20150723T160000Z
DTSTAMP;VALUE=DATE-TIME:20260420T043424Z
UID:indico-contribution-2676@indico.ific.uv.es
DESCRIPTION:https://indico.ific.uv.es/event/2515/contributions/2676/
LOCATION:Universe 1001-Primera-135 - Nave Exp. Sala de Audiovisuales
URL:https://indico.ific.uv.es/event/2515/contributions/2676/
END:VEVENT
END:VCALENDAR
