BEGIN:VCALENDAR
VERSION:2.0
PRODID:-//CERN//INDICO//EN
BEGIN:VEVENT
SUMMARY:Looking for Majorana at the LHC
DTSTART;VALUE=DATE-TIME:20150512T103000Z
DTEND;VALUE=DATE-TIME:20150512T113000Z
DTSTAMP;VALUE=DATE-TIME:20260420T100334Z
UID:indico-event-2497@indico.ific.uv.es
DESCRIPTION:According to Majorana\, neutral particles such as neutrinos ma
 y be their own antiparticles which implies lepton number violation\, the t
 ext-book example being a neutrinoless double beta decay. I argue that the 
 LHC could provide a complementary high-energy test of this idea and discus
 s a deep connection between these two exciting processes in the context of
  the minimal Left-Right symmetric theory. This theory\, which was introduc
 ed long ago in order to account for parity violation in weak interactions 
 and which led originally to neutrino mass and the seesaw mechanism\, is fi
 nally becoming accessible to experiment.\n\nhttps://indico.ific.uv.es/even
 t/2497/
LOCATION:Parc Científic Salón de Actos Edificio de Cabecera
URL:https://indico.ific.uv.es/event/2497/
END:VEVENT
END:VCALENDAR
