BEGIN:VCALENDAR
VERSION:2.0
PRODID:-//CERN//INDICO//EN
BEGIN:VEVENT
SUMMARY:Conclusiones y futuras reuniones
DTSTART;VALUE=DATE-TIME:20070924T122000Z
DTEND;VALUE=DATE-TIME:20070924T123000Z
DTSTAMP;VALUE=DATE-TIME:20260420T182312Z
UID:indico-contribution-2388@indico.ific.uv.es
DESCRIPTION:Speakers: Antonio Ferrer (IFIC)\nhttps://indico.ific.uv.es/eve
 nt/24/contributions/2388/
LOCATION:Seminario del IFIC
URL:https://indico.ific.uv.es/event/24/contributions/2388/
END:VEVENT
END:VCALENDAR
