BEGIN:VCALENDAR
VERSION:2.0
PRODID:-//CERN//INDICO//EN
BEGIN:VEVENT
SUMMARY:Coordinación Tier2-Tier3
DTSTART;VALUE=DATE-TIME:20070924T112000Z
DTEND;VALUE=DATE-TIME:20070924T115000Z
DTSTAMP;VALUE=DATE-TIME:20260424T055238Z
UID:indico-contribution-2387@indico.ific.uv.es
DESCRIPTION:Speakers: JOSE SALT (IFIC)\nhttps://indico.ific.uv.es/event/24
 /contributions/2387/
LOCATION:Seminario del IFIC
URL:https://indico.ific.uv.es/event/24/contributions/2387/
END:VEVENT
END:VCALENDAR
