BEGIN:VCALENDAR
VERSION:2.0
PRODID:-//CERN//INDICO//EN
BEGIN:VEVENT
SUMMARY:Discusión sobre necesidades para el Tier3 del IFIC
DTSTART;VALUE=DATE-TIME:20070924T115000Z
DTEND;VALUE=DATE-TIME:20070924T122000Z
DTSTAMP;VALUE=DATE-TIME:20260424T102241Z
UID:indico-contribution-2386@indico.ific.uv.es
DESCRIPTION:Speakers: Todos ()\nhttps://indico.ific.uv.es/event/24/contrib
 utions/2386/
LOCATION:Seminario del IFIC
URL:https://indico.ific.uv.es/event/24/contributions/2386/
END:VEVENT
END:VCALENDAR
